BEGIN:VCALENDAR
VERSION:2.0
PRODID:-//Harford Happenings - ECPv6.15.20//NONSGML v1.0//EN
CALSCALE:GREGORIAN
METHOD:PUBLISH
X-WR-CALNAME:Harford Happenings
X-ORIGINAL-URL:https://www.harfordhappenings.com
X-WR-CALDESC:Events for Harford Happenings
REFRESH-INTERVAL;VALUE=DURATION:PT1H
X-Robots-Tag:noindex
X-PUBLISHED-TTL:PT1H
BEGIN:VTIMEZONE
TZID:America/New_York
BEGIN:DAYLIGHT
TZOFFSETFROM:-0500
TZOFFSETTO:-0400
TZNAME:EDT
DTSTART:20250309T070000
END:DAYLIGHT
BEGIN:STANDARD
TZOFFSETFROM:-0400
TZOFFSETTO:-0500
TZNAME:EST
DTSTART:20251102T060000
END:STANDARD
BEGIN:DAYLIGHT
TZOFFSETFROM:-0500
TZOFFSETTO:-0400
TZNAME:EDT
DTSTART:20260308T070000
END:DAYLIGHT
BEGIN:STANDARD
TZOFFSETFROM:-0400
TZOFFSETTO:-0500
TZNAME:EST
DTSTART:20261101T060000
END:STANDARD
BEGIN:DAYLIGHT
TZOFFSETFROM:-0500
TZOFFSETTO:-0400
TZNAME:EDT
DTSTART:20270314T070000
END:DAYLIGHT
BEGIN:STANDARD
TZOFFSETFROM:-0400
TZOFFSETTO:-0500
TZNAME:EST
DTSTART:20271107T060000
END:STANDARD
END:VTIMEZONE
BEGIN:VEVENT
DTSTART;TZID=America/New_York:20260417T190000
DTEND;TZID=America/New_York:20260417T190000
DTSTAMP:20260421T044633
CREATED:20260308T141927Z
LAST-MODIFIED:20260308T141927Z
UID:30313-1776452400-1776452400@www.harfordhappenings.com
SUMMARY:Magnolia Middle School presents High School Musical Jr.
DESCRIPTION:
URL:https://www.harfordhappenings.com/event/magnolia-middle-school-presents-high-school-musical-jr-3/
LOCATION:Joppatowne High School\, 555 Joppa Farm Rd.\, Joppatowne\, MD\, 21085\, United States
CATEGORIES:Family Events,Performing Arts
END:VEVENT
BEGIN:VEVENT
DTSTART;TZID=America/New_York:20260417T190000
DTEND;TZID=America/New_York:20260417T190000
DTSTAMP:20260421T044633
CREATED:20260308T141927Z
LAST-MODIFIED:20260308T141927Z
UID:30316-1776452400-1776452400@www.harfordhappenings.com
SUMMARY:Patterson Mill Middle School presents Newsies Jr.
DESCRIPTION:
URL:https://www.harfordhappenings.com/event/patterson-mill-middle-school-presents-newsies-jr-3/
LOCATION:MD
CATEGORIES:Family Events,Performing Arts
END:VEVENT
BEGIN:VEVENT
DTSTART;TZID=America/New_York:20260417T190000
DTEND;TZID=America/New_York:20260417T203000
DTSTAMP:20260421T044633
CREATED:20260308T153705Z
LAST-MODIFIED:20260308T163157Z
UID:30233-1776452400-1776457800@www.harfordhappenings.com
SUMMARY:The Amazing Bubble Factory
DESCRIPTION:The Amazing Bubble Factory brings the amazing art of bubbles to life right in front of the audience’s eyes! A self proclaimed Bubbleologist\, Jamie’s brand of humor and showmanship both excites and entertains the crowd as he creates thousands of bubbles. Producing bubbles from the size of a pea to the size of a minivan\, The Amazing Bubble Factory makes a product that lightens the heart and brings everyone back to their childhood regardless of age. \nThe Amazing Bubble Factory Shows are performed in a turn of the century “medicine man” theme with live music\, bells\, fast talking\, audience participation\, smiles\, laughs\, and of course Bubbles!
URL:https://www.harfordhappenings.com/event/the-amazing-bubble-factory/
LOCATION:MD
CATEGORIES:Family Events,Performing Arts
END:VEVENT
END:VCALENDAR