BEGIN:VCALENDAR
VERSION:2.0
PRODID:-//Harford Happenings - ECPv6.15.20//NONSGML v1.0//EN
CALSCALE:GREGORIAN
METHOD:PUBLISH
X-ORIGINAL-URL:https://www.harfordhappenings.com
X-WR-CALDESC:Events for Harford Happenings
REFRESH-INTERVAL;VALUE=DURATION:PT1H
X-Robots-Tag:noindex
X-PUBLISHED-TTL:PT1H
BEGIN:VTIMEZONE
TZID:America/New_York
BEGIN:DAYLIGHT
TZOFFSETFROM:-0500
TZOFFSETTO:-0400
TZNAME:EDT
DTSTART:20240310T070000
END:DAYLIGHT
BEGIN:STANDARD
TZOFFSETFROM:-0400
TZOFFSETTO:-0500
TZNAME:EST
DTSTART:20241103T060000
END:STANDARD
BEGIN:DAYLIGHT
TZOFFSETFROM:-0500
TZOFFSETTO:-0400
TZNAME:EDT
DTSTART:20250309T070000
END:DAYLIGHT
BEGIN:STANDARD
TZOFFSETFROM:-0400
TZOFFSETTO:-0500
TZNAME:EST
DTSTART:20251102T060000
END:STANDARD
BEGIN:DAYLIGHT
TZOFFSETFROM:-0500
TZOFFSETTO:-0400
TZNAME:EDT
DTSTART:20260308T070000
END:DAYLIGHT
BEGIN:STANDARD
TZOFFSETFROM:-0400
TZOFFSETTO:-0500
TZNAME:EST
DTSTART:20261101T060000
END:STANDARD
BEGIN:DAYLIGHT
TZOFFSETFROM:-0500
TZOFFSETTO:-0400
TZNAME:EDT
DTSTART:20270314T070000
END:DAYLIGHT
BEGIN:STANDARD
TZOFFSETFROM:-0400
TZOFFSETTO:-0500
TZNAME:EST
DTSTART:20271107T060000
END:STANDARD
END:VTIMEZONE
BEGIN:VEVENT
DTSTART;TZID=America/New_York:20260412T090000
DTEND;TZID=America/New_York:20260412T140000
DTSTAMP:20260425T062248
CREATED:20260308T153813Z
LAST-MODIFIED:20260308T162902Z
UID:30212-1775984400-1776002400@www.harfordhappenings.com
SUMMARY:Bel Air Community Yard Sale & Flea Market
DESCRIPTION:The Bel Air Community Yard Sale and Flea Market is a community-oriented event series taking place in 2026! Get ready for some serious shopping; we’ll also have food trucks! \nThe community yard sale is YOU – we will update our list of affiliated yard sales in Bel Air as new ones become available. \nCheck out downtown’s businesses as well – some will be holding sidewalk and other sales in the spirit of the event! \nThe Flea Market will take place in the Mary Risteau Parking Lot from 9 a.m. to 2 p.m. There\, you’ll find antiques\, housewares\, clothing\, and more!
URL:https://www.harfordhappenings.com/event/bel-air-community-yard-sale-flea-market-3/
LOCATION:MD
CATEGORIES:Flea Markets,Free Events
END:VEVENT
BEGIN:VEVENT
DTSTART;TZID=America/New_York:20260411T100000
DTEND;TZID=America/New_York:20260411T160000
DTSTAMP:20260425T062248
CREATED:20260308T153814Z
LAST-MODIFIED:20260308T162845Z
UID:30205-1775901600-1775923200@www.harfordhappenings.com
SUMMARY:Bel Air Kite Festival
DESCRIPTION:Mark your calendars for the 2026 Bel Air Kite Festival\, happening Saturday\, April 11 on the athletic fields at Rockfield Park!\nFree kites while supplies last. Rain date: Sunday\, April 12.
URL:https://www.harfordhappenings.com/event/bel-air-kite-festival/
LOCATION:Rockfield Park\, 501 E. Churchville Rd.\, Bel Air\, MD\, 21015\, United States
CATEGORIES:Free Events
END:VEVENT
BEGIN:VEVENT
DTSTART;TZID=America/New_York:20260411T073000
DTEND;TZID=America/New_York:20260411T073000
DTSTAMP:20260425T062248
CREATED:20260308T153817Z
LAST-MODIFIED:20260308T160947Z
UID:30183-1775892600-1775892600@www.harfordhappenings.com
SUMMARY:14th Annual Romancing The Chrome Car Show
DESCRIPTION:Join us for the 14th Annual Romancing The Chrome Car Show on Saturday April 11th. Registration begins at 7:30am and runs until 10:00am. Registration fee is $25 and no advance registrations can be accepted.\nOur location is 3719 Norrisville Rd Jarrettsville MD 21084
URL:https://www.harfordhappenings.com/event/14th-annual-romancing-the-chrome-car-show/
LOCATION:MD
CATEGORIES:Family Events,Free Events
END:VEVENT
BEGIN:VEVENT
DTSTART;TZID=America/New_York:20260404T120000
DTEND;TZID=America/New_York:20260404T120000
DTSTAMP:20260425T062248
CREATED:20260308T153840Z
LAST-MODIFIED:20260308T160947Z
UID:30180-1775304000-1775304000@www.harfordhappenings.com
SUMMARY:Havre de Grace Easter Egg Hunt
DESCRIPTION:The HDG Recreation Committee is hosting the annual Spring Egg Hunt on Saturday April 4th  at 12 noon sharp. The hunt occurs at Concord Point Lighthouse Park. Arrive early as the hunt starts at noon and ends once all the eggs are retrieved. Free photos with the Easter Bunny are available before and after the hunt. Some eggs are filled with tickets for special prizes too big for an egg.
URL:https://www.harfordhappenings.com/event/havre-de-grace-easter-egg-hunt/
LOCATION:Concorde Point Lighthouse\, 700 Concord St.\, Havre de Grace\, MD\, 21078\, United States
CATEGORIES:Easter Events,Family Events,Free Events
END:VEVENT
BEGIN:VEVENT
DTSTART;TZID=America/New_York:20260404T100000
DTEND;TZID=America/New_York:20260404T120000
DTSTAMP:20260425T062248
CREATED:20260308T153839Z
LAST-MODIFIED:20260308T160947Z
UID:30181-1775296800-1775304000@www.harfordhappenings.com
SUMMARY:Easter Egg Hunt at YourSpace Storage
DESCRIPTION:Spring is hopping in—and so are the eggs! Join us at YourSpace Storage for a FREE Easter Egg Hunt that’s open to everyone. Egg hunt starts promptly at 11:00 am!\n🌦️ Rain or shine\, we’re hunting!\n📸 Easter Bunny photos — stop by for a pic!\n🎁 Fun giveaways\, including Easter coloring books\n🐣 All are welcome — bring a friend and come celebrate\nCome for the egg hunt\, snap a Bunny pic\, and leave with a little extra spring cheer!
URL:https://www.harfordhappenings.com/event/easter-egg-hunt-at-yourspace-storage/
LOCATION:MD
CATEGORIES:Easter Events,Family Events,Free Events
END:VEVENT
BEGIN:VEVENT
DTSTART;TZID=America/New_York:20260328T130000
DTEND;TZID=America/New_York:20260328T160000
DTSTAMP:20260425T062248
CREATED:20260308T153840Z
LAST-MODIFIED:20260308T160943Z
UID:30177-1774702800-1774713600@www.harfordhappenings.com
SUMMARY:Hop on the Trail Easter Egg Hunt
DESCRIPTION:Join us for an unforgettable Easter adventure! Hunt for eggs along the scenic Bear Legacy Adventure Trail — a unique experience the whole family will love. Event is FREE but you must registger in advance. No walk ups can be accomodated.
URL:https://www.harfordhappenings.com/event/hop-on-the-trail-easter-egg-hunt/
LOCATION:MD
CATEGORIES:Easter Events,Family Events,Free Events
END:VEVENT
BEGIN:VEVENT
DTSTART;TZID=America/New_York:20260328T090000
DTEND;TZID=America/New_York:20260328T140000
DTSTAMP:20260425T062248
CREATED:20260308T153840Z
LAST-MODIFIED:20260308T160944Z
UID:30179-1774688400-1774706400@www.harfordhappenings.com
SUMMARY:Spring Fest
DESCRIPTION:
URL:https://www.harfordhappenings.com/event/spring-fest/
LOCATION:St. Joan of Arc School\, 230 S Law Street\, Aberdeen\, Maryland\, 21001
CATEGORIES:Easter Events,Family Events,Free Events
END:VEVENT
BEGIN:VEVENT
DTSTART;TZID=America/New_York:20260321T150000
DTEND;TZID=America/New_York:20260321T180000
DTSTAMP:20260425T062248
CREATED:20260308T141931Z
LAST-MODIFIED:20260308T141931Z
UID:30294-1774105200-1774116000@www.harfordhappenings.com
SUMMARY:Spring Into Wellness Community Fair
DESCRIPTION:Join us for a fun afternoon at Harford Day School to kick off the spring season!\nThe Spring Into Wellness Community Fair is an event to highlight local businesses and organizations that support the wellbeing of children and families.\nFeaturing: Food trucks\, local vendors\, live music\, health resources\, kids’ activities (art area\, open play areas\, sensory stations)\, book readings\, hula hoop contest\, martial arts demonstration\, giveaways\, and more!
URL:https://www.harfordhappenings.com/event/spring-into-wellness-community-fair/
LOCATION:Harford Day School\, 715 Moores Mill Road\, Bel Air\, MD\, 21014\, United States
CATEGORIES:Family Events,Free Events
END:VEVENT
BEGIN:VEVENT
DTSTART;TZID=America/New_York:20260321T130000
DTEND;TZID=America/New_York:20260321T150000
DTSTAMP:20260425T062248
CREATED:20260308T153840Z
LAST-MODIFIED:20260308T160943Z
UID:30175-1774098000-1774105200@www.harfordhappenings.com
SUMMARY:Easter Eggstravaganza
DESCRIPTION:Join us for a day of FREE family fun!\nThere will be an on-going egg hunt\, an Easter craft\, a short movie playing on repeat\, light snacks\, a toddler sensory play area\, and a bounce house! There is something for all ages to enjoy.
URL:https://www.harfordhappenings.com/event/easter-eggstravaganza/
LOCATION:MD
CATEGORIES:Easter Events,Family Events,Free Events
END:VEVENT
BEGIN:VEVENT
DTSTART;TZID=America/New_York:20250710T170000
DTEND;TZID=America/New_York:20250710T200000
DTSTAMP:20260425T062248
CREATED:20260308T153814Z
LAST-MODIFIED:20260308T162846Z
UID:30208-1752166800-1752177600@www.harfordhappenings.com
SUMMARY:First Friday's in Bel Air
DESCRIPTION:Come visit the “Heart of Harford” on the First Friday* of the month for Harford County’s best block party! Enjoy local live music\, food trucks\, artisan vendors\, a beer and wine garden\, activities for kids\, and more! And while you’re here\, be sure to shop at one of our many boutiques\, explore the Bel Air Public Art Walk\, or take a walk on the Ma & Pa Trail. First Friday ends at 8 p.m.\, but the fun doesn’t stop there; keep the party going at one of our pubs\, restaurants or breweries
URL:https://www.harfordhappenings.com/event/first-fridays-in-bel-air-4/
LOCATION:MD
CATEGORIES:Free Events
END:VEVENT
END:VCALENDAR