BEGIN:VCALENDAR
VERSION:2.0
PRODID:-//Harford Happenings - ECPv6.15.20//NONSGML v1.0//EN
CALSCALE:GREGORIAN
METHOD:PUBLISH
X-ORIGINAL-URL:https://www.harfordhappenings.com
X-WR-CALDESC:Events for Harford Happenings
REFRESH-INTERVAL;VALUE=DURATION:PT1H
X-Robots-Tag:noindex
X-PUBLISHED-TTL:PT1H
BEGIN:VTIMEZONE
TZID:America/New_York
BEGIN:DAYLIGHT
TZOFFSETFROM:-0500
TZOFFSETTO:-0400
TZNAME:EDT
DTSTART:20250309T070000
END:DAYLIGHT
BEGIN:STANDARD
TZOFFSETFROM:-0400
TZOFFSETTO:-0500
TZNAME:EST
DTSTART:20251102T060000
END:STANDARD
BEGIN:DAYLIGHT
TZOFFSETFROM:-0500
TZOFFSETTO:-0400
TZNAME:EDT
DTSTART:20260308T070000
END:DAYLIGHT
BEGIN:STANDARD
TZOFFSETFROM:-0400
TZOFFSETTO:-0500
TZNAME:EST
DTSTART:20261101T060000
END:STANDARD
BEGIN:DAYLIGHT
TZOFFSETFROM:-0500
TZOFFSETTO:-0400
TZNAME:EDT
DTSTART:20270314T070000
END:DAYLIGHT
BEGIN:STANDARD
TZOFFSETFROM:-0400
TZOFFSETTO:-0500
TZNAME:EST
DTSTART:20271107T060000
END:STANDARD
END:VTIMEZONE
BEGIN:VEVENT
DTSTART;TZID=America/New_York:20261206T153000
DTEND;TZID=America/New_York:20261206T170000
DTSTAMP:20260425T092547
CREATED:20260308T153811Z
LAST-MODIFIED:20260308T154933Z
UID:30230-1796571000-1796576400@www.harfordhappenings.com
SUMMARY:Bel Air Christmas Parade & Tree Lighting Ceremony
DESCRIPTION:The Downtown Bel Air Christmas Parade is a tradition that has been going on for over 30 years! Come together as a community to celebrate the holiday season in Downtown Bel Air!\nBel Air Christmas Parade Schedule of Events\n2:30 p.m.: The Route 66 Band in front of the Courthouse\n3:30 p.m.: Parade\n4:15 p.m.: Holiday Music\, Food Trucks\, and more in Shamrock Park\n4:30/5 p.m.: Tree Lighting
URL:https://www.harfordhappenings.com/event/bel-air-christmas-parade-tree-lighting-ceremony/
LOCATION:Downtown Bel Air\, Office Street\, Bel Air\, MD\, 21014\, United States
CATEGORIES:Free Events,Holiday Events
END:VEVENT
BEGIN:VEVENT
DTSTART;TZID=America/New_York:20261206T153000
DTEND;TZID=America/New_York:20261206T170000
DTSTAMP:20260425T092547
CREATED:20260308T163156Z
LAST-MODIFIED:20260308T163156Z
UID:30653-1796571000-1796576400@www.harfordhappenings.com
SUMMARY:Bel Air Christmas Parage & Tree Lighting Ceremony
DESCRIPTION:The Downtown Bel Air Christmas Parade is a tradition that has been going on for over 30 years! Come together as a community to celebrate the holiday season in Downtown Bel Air!\nBel Air Christmas Parade Schedule of Events\n2:30 p.m.: The Route 66 Band in front of the Courthouse\n3:30 p.m.: Parade\n4:15 p.m.: Holiday Music\, Food Trucks\, and more in Shamrock Park\n4:30/5 p.m.: Tree Lighting
URL:https://www.harfordhappenings.com/event/bel-air-christmas-parage-tree-lighting-ceremony/
LOCATION:Downtown Bel Air\, Office Street\, Bel Air\, MD\, 21014\, United States
CATEGORIES:Free Events,Holiday Events
END:VEVENT
END:VCALENDAR