BEGIN:VCALENDAR
VERSION:2.0
PRODID:-//Harford Happenings - ECPv6.15.20//NONSGML v1.0//EN
CALSCALE:GREGORIAN
METHOD:PUBLISH
X-ORIGINAL-URL:https://www.harfordhappenings.com
X-WR-CALDESC:Events for Harford Happenings
REFRESH-INTERVAL;VALUE=DURATION:PT1H
X-Robots-Tag:noindex
X-PUBLISHED-TTL:PT1H
BEGIN:VTIMEZONE
TZID:America/New_York
BEGIN:DAYLIGHT
TZOFFSETFROM:-0500
TZOFFSETTO:-0400
TZNAME:EDT
DTSTART:20250309T070000
END:DAYLIGHT
BEGIN:STANDARD
TZOFFSETFROM:-0400
TZOFFSETTO:-0500
TZNAME:EST
DTSTART:20251102T060000
END:STANDARD
BEGIN:DAYLIGHT
TZOFFSETFROM:-0500
TZOFFSETTO:-0400
TZNAME:EDT
DTSTART:20260308T070000
END:DAYLIGHT
BEGIN:STANDARD
TZOFFSETFROM:-0400
TZOFFSETTO:-0500
TZNAME:EST
DTSTART:20261101T060000
END:STANDARD
BEGIN:DAYLIGHT
TZOFFSETFROM:-0500
TZOFFSETTO:-0400
TZNAME:EDT
DTSTART:20270314T070000
END:DAYLIGHT
BEGIN:STANDARD
TZOFFSETFROM:-0400
TZOFFSETTO:-0500
TZNAME:EST
DTSTART:20271107T060000
END:STANDARD
END:VTIMEZONE
BEGIN:VEVENT
DTSTART;TZID=America/New_York:20260523T190000
DTEND;TZID=America/New_York:20260523T210000
DTSTAMP:20260425T063106
CREATED:20260308T153705Z
LAST-MODIFIED:20260308T163412Z
UID:30239-1779562800-1779570000@www.harfordhappenings.com
SUMMARY:Tony Sands presents: Rat Pack Together Again
DESCRIPTION:A Toast to the Rat Pack takes you on a musical journey featuring the greatest hits from the legendary Frank Sinatra\, Dean Martin\, and Sammy Davis Jr. \n*Please note that this event is presented by an independent organization renting our facilities. It is not an Opera House production\, and the content does not necessarily reflect the views or opinions of the Opera House or its management.
URL:https://www.harfordhappenings.com/event/tony-sands-presents-rat-pack-together-again/
LOCATION:MD
CATEGORIES:Live Music
END:VEVENT
END:VCALENDAR