BEGIN:VCALENDAR
VERSION:2.0
PRODID:-//Harford Happenings - ECPv6.15.20//NONSGML v1.0//EN
CALSCALE:GREGORIAN
METHOD:PUBLISH
X-WR-CALNAME:Harford Happenings
X-ORIGINAL-URL:https://www.harfordhappenings.com
X-WR-CALDESC:Events for Harford Happenings
REFRESH-INTERVAL;VALUE=DURATION:PT1H
X-Robots-Tag:noindex
X-PUBLISHED-TTL:PT1H
BEGIN:VTIMEZONE
TZID:America/New_York
BEGIN:DAYLIGHT
TZOFFSETFROM:-0500
TZOFFSETTO:-0400
TZNAME:EDT
DTSTART:20250309T070000
END:DAYLIGHT
BEGIN:STANDARD
TZOFFSETFROM:-0400
TZOFFSETTO:-0500
TZNAME:EST
DTSTART:20251102T060000
END:STANDARD
BEGIN:DAYLIGHT
TZOFFSETFROM:-0500
TZOFFSETTO:-0400
TZNAME:EDT
DTSTART:20260308T070000
END:DAYLIGHT
BEGIN:STANDARD
TZOFFSETFROM:-0400
TZOFFSETTO:-0500
TZNAME:EST
DTSTART:20261101T060000
END:STANDARD
BEGIN:DAYLIGHT
TZOFFSETFROM:-0500
TZOFFSETTO:-0400
TZNAME:EDT
DTSTART:20270314T070000
END:DAYLIGHT
BEGIN:STANDARD
TZOFFSETFROM:-0400
TZOFFSETTO:-0500
TZNAME:EST
DTSTART:20271107T060000
END:STANDARD
END:VTIMEZONE
BEGIN:VEVENT
DTSTART;TZID=America/New_York:20260418T200000
DTEND;TZID=America/New_York:20260418T200000
DTSTAMP:20260425T094833
CREATED:20260308T153816Z
LAST-MODIFIED:20260308T161204Z
UID:30191-1776542400-1776542400@www.harfordhappenings.com
SUMMARY:Get The Led Out
DESCRIPTION:From the bombastic and epic\, to the folky and mystical\, Get The Led Out has captured the essence of the recorded music of Led Zeppelin and brought it to the concert stage. The Philadelphia-based group consists of six veteran musicians\, intent on delivering Led Zeppelin live\, like you’ve never heard before. It’s been their mission to bring the studio recordings of “The Mighty Zep” to life on the big concert stage.  \nThis is not an impersonator act but rather a group of musicians who were fans first\, striving to do justice to one of the greatest bands in rock history!
URL:https://www.harfordhappenings.com/event/get-the-led-out/
LOCATION:APGFCU Arena\, 401 Thomas Run Road\, Bel Air\, MD\, 21015
CATEGORIES:Live Music
END:VEVENT
BEGIN:VEVENT
DTSTART;TZID=America/New_York:20260418T200000
DTEND;TZID=America/New_York:20260418T220000
DTSTAMP:20260425T094833
CREATED:20260308T153705Z
LAST-MODIFIED:20260308T163341Z
UID:30238-1776542400-1776549600@www.harfordhappenings.com
SUMMARY:Beginnings: A Celebration of the Music of Chicago
DESCRIPTION:Beginnings – A Celebration of the Music of Chicago brings the magic of a live Chicago performance to life and exceptionally recreates their enormous songbook of contemporary hits. \nThe music of Rock and Roll Hall of Fame inductees Chicago spans more than five decades and includes five # 1 albums and over 20 top-ten hits. The band transports the listener back to a time of big arena concerts with all the sound\, excitement\, and emotion generated from Chicago’s extensive catalog of gold and platinum recordings. \nBeginnings has one of the most entertaining live performances you can see today. Expect a family- friendly entertainment event that is pleasing to music lovers of all ages! \nSHOW HIGHLIGHTS: Beginnings\, Make Me Smile\, 25 or 6 to 4\, Call on Me\, Saturday in the Park\, Old Days\, You’re the Inspiration\, Alive Again\, Color My World\, Just You and Me\, I’ve Been Searchin’ So Long\, Free\, Hard to Say I’m Sorry\, and many\, many more!
URL:https://www.harfordhappenings.com/event/beginnings-a-celebration-of-the-music-of-chicago/
LOCATION:MD
CATEGORIES:Live Music
END:VEVENT
END:VCALENDAR