BEGIN:VCALENDAR
VERSION:2.0
PRODID:-//Harford Happenings - ECPv6.15.20//NONSGML v1.0//EN
CALSCALE:GREGORIAN
METHOD:PUBLISH
X-ORIGINAL-URL:https://www.harfordhappenings.com
X-WR-CALDESC:Events for Harford Happenings
REFRESH-INTERVAL;VALUE=DURATION:PT1H
X-Robots-Tag:noindex
X-PUBLISHED-TTL:PT1H
BEGIN:VTIMEZONE
TZID:America/New_York
BEGIN:DAYLIGHT
TZOFFSETFROM:-0500
TZOFFSETTO:-0400
TZNAME:EDT
DTSTART:20250309T070000
END:DAYLIGHT
BEGIN:STANDARD
TZOFFSETFROM:-0400
TZOFFSETTO:-0500
TZNAME:EST
DTSTART:20251102T060000
END:STANDARD
BEGIN:DAYLIGHT
TZOFFSETFROM:-0500
TZOFFSETTO:-0400
TZNAME:EDT
DTSTART:20260308T070000
END:DAYLIGHT
BEGIN:STANDARD
TZOFFSETFROM:-0400
TZOFFSETTO:-0500
TZNAME:EST
DTSTART:20261101T060000
END:STANDARD
BEGIN:DAYLIGHT
TZOFFSETFROM:-0500
TZOFFSETTO:-0400
TZNAME:EDT
DTSTART:20270314T070000
END:DAYLIGHT
BEGIN:STANDARD
TZOFFSETFROM:-0400
TZOFFSETTO:-0500
TZNAME:EST
DTSTART:20271107T060000
END:STANDARD
END:VTIMEZONE
BEGIN:VEVENT
DTSTART;TZID=America/New_York:20260418T200000
DTEND;TZID=America/New_York:20260418T220000
DTSTAMP:20260425T061552
CREATED:20260308T153705Z
LAST-MODIFIED:20260308T163341Z
UID:30238-1776542400-1776549600@www.harfordhappenings.com
SUMMARY:Beginnings: A Celebration of the Music of Chicago
DESCRIPTION:Beginnings – A Celebration of the Music of Chicago brings the magic of a live Chicago performance to life and exceptionally recreates their enormous songbook of contemporary hits. \nThe music of Rock and Roll Hall of Fame inductees Chicago spans more than five decades and includes five # 1 albums and over 20 top-ten hits. The band transports the listener back to a time of big arena concerts with all the sound\, excitement\, and emotion generated from Chicago’s extensive catalog of gold and platinum recordings. \nBeginnings has one of the most entertaining live performances you can see today. Expect a family- friendly entertainment event that is pleasing to music lovers of all ages! \nSHOW HIGHLIGHTS: Beginnings\, Make Me Smile\, 25 or 6 to 4\, Call on Me\, Saturday in the Park\, Old Days\, You’re the Inspiration\, Alive Again\, Color My World\, Just You and Me\, I’ve Been Searchin’ So Long\, Free\, Hard to Say I’m Sorry\, and many\, many more!
URL:https://www.harfordhappenings.com/event/beginnings-a-celebration-of-the-music-of-chicago/
LOCATION:MD
CATEGORIES:Live Music
END:VEVENT
BEGIN:VEVENT
DTSTART;TZID=America/New_York:20260418T200000
DTEND;TZID=America/New_York:20260418T200000
DTSTAMP:20260425T061552
CREATED:20260308T153816Z
LAST-MODIFIED:20260308T161204Z
UID:30191-1776542400-1776542400@www.harfordhappenings.com
SUMMARY:Get The Led Out
DESCRIPTION:From the bombastic and epic\, to the folky and mystical\, Get The Led Out has captured the essence of the recorded music of Led Zeppelin and brought it to the concert stage. The Philadelphia-based group consists of six veteran musicians\, intent on delivering Led Zeppelin live\, like you’ve never heard before. It’s been their mission to bring the studio recordings of “The Mighty Zep” to life on the big concert stage.  \nThis is not an impersonator act but rather a group of musicians who were fans first\, striving to do justice to one of the greatest bands in rock history!
URL:https://www.harfordhappenings.com/event/get-the-led-out/
LOCATION:APGFCU Arena\, 401 Thomas Run Road\, Bel Air\, MD\, 21015
CATEGORIES:Live Music
END:VEVENT
BEGIN:VEVENT
DTSTART;TZID=America/New_York:20260411T200000
DTEND;TZID=America/New_York:20260411T220000
DTSTAMP:20260425T061552
CREATED:20260308T153705Z
LAST-MODIFIED:20260308T163341Z
UID:30237-1775937600-1775944800@www.harfordhappenings.com
SUMMARY:Completely Unchained - A Tribute to Van Halen
DESCRIPTION:Who doesn’t love the way Van Halen rocked the world from 1978 to 1984? They had it all\, including the best guitarist on the planet. A lead singer with the biggest personality in our Solar System. A bass player who laid down the law on bass while singing pristine harmonies over the top. And a drummer who kicked everyone’s butt. They created some of the best tunes ever heard on the radio and they all smiled those big smiles while doing it. Every show was a huge party and it just felt good. \nCompletely Unchained are four talented and creative musicians that re-create the ultimate Van Halen production – the attitude\, sounds\, excitement\, energy and most of all the fun that Van Halen produced as one of the best rock bands in the world. Starting off by reproducing the very best of the original line up\, then merging the “Van Hagar” era with some David Lee Roth solo hits\, completes a whole catalog of the greatest hard rock songs ever recorded. \nCompletely Unchained takes the concept of a tribute band and raises it to a whole new level. Not only do we recreate the music with unsurpassed skill\, but the stage energy and the production at a Completely Unchained show is unmatched. No one else brings the entire package together like Completely Unchained. Come to a show and judge for yourself.
URL:https://www.harfordhappenings.com/event/completely-unchained-a-tribute-to-van-halen/
LOCATION:MD
CATEGORIES:Live Music
END:VEVENT
BEGIN:VEVENT
DTSTART;TZID=America/New_York:20260320T200000
DTEND;TZID=America/New_York:20260320T220000
DTSTAMP:20260425T061552
CREATED:20260308T153705Z
LAST-MODIFIED:20260308T163341Z
UID:30236-1774036800-1774044000@www.harfordhappenings.com
SUMMARY:Hollywood Nights - Bob Seger Tribute Band
DESCRIPTION:Hollywood Nights – America’s Bob Seger Experience is the ultimate tribute to Bob Seger and the Silver Bullet Band. They are a 9-piece band based in New Jersey who continues to strive to recreate everything about Bob Seger and his music down to the core. They pride themselves on carrying on the legacy of Bob Seger’s unforgettable high-energy shows\, roaring raspy vocals\, and the groundwork Bob has laid over the past 30 years. Hollywood Nights shares the belief that only Bob and his fans have come to know\, learn\, and love: Represent the voice of every fan\, his or her values\, working-class background\, and the love of rock ‘n’ roll. If you are a true fan of Bob Seger and the Silver Bullet Band\, you won’t want to miss Hollywood Nights!
URL:https://www.harfordhappenings.com/event/hollywood-nights-bob-seger-tribute-band/
LOCATION:MD
CATEGORIES:Live Music
END:VEVENT
BEGIN:VEVENT
DTSTART;TZID=America/New_York:20260314T200000
DTEND;TZID=America/New_York:20260314T220000
DTSTAMP:20260425T061552
CREATED:20260308T153705Z
LAST-MODIFIED:20260308T163341Z
UID:30235-1773518400-1773525600@www.harfordhappenings.com
SUMMARY:Kashmir - The Spirit of Led Zeppelin
DESCRIPTION:For over a decade\, Kashmir has been the premier Led Zeppelin tribute band touring North America. This invitation to celebrate such a significant milestone in rock history marks a crowning achievement in their career\, distinguishing them significantly from other Led Zeppelin tribute bands \nThis event not only cements Kashmir’s position as a top tribute band but also celebrates their dedication to preserving and performing the timeless music of Led Zeppelin.
URL:https://www.harfordhappenings.com/event/kashmir-the-spirit-of-led-zeppelin/
LOCATION:MD
CATEGORIES:Live Music
END:VEVENT
END:VCALENDAR